View In:
ArcGIS JavaScript
ArcGIS Online map viewer
ArcGIS Earth
ArcMap
View Footprint In:
ArcGIS Online map viewer
Service Description: Ortoimmagini a quattro bande visualizzabili a colori in NIR, con pixel medio di 20 cm. L'acquisizione delle immagini è realizzata in condizioni con limitata fogliazione, minimi residui di neve e inclinazione dei raggi solari non inferiori a 25°; taglio cartografico: 1000x1000metri.
Per maggiori informazioni, consultare la pagina di approfondimento https://geoportale.regione.emilia-romagna.it/approfondimenti/rer23_24 L'estensione delle aree già disponibili e ulteriori informazioni nel servizio WMS "metadati_raster"
Name: public/RER2023_24_NIR
Description: Ortoimmagini a quattro bande visualizzabili a colori in NIR, con pixel medio di 20 cm. L'acquisizione delle immagini è realizzata in condizioni con limitata fogliazione, minimi residui di neve e inclinazione dei raggi solari non inferiori a 25°; taglio cartografico: 1000x1000metri.
Per maggiori informazioni, consultare la pagina di approfondimento https://geoportale.regione.emilia-romagna.it/approfondimenti/rer23_24 L'estensione delle aree già disponibili e ulteriori informazioni nel servizio WMS "metadati_raster"
Single Fused Map Cache: false
Extent:
XMin: 523990
YMin: 4857980.000004992
XMax: 802019.9999902288
YMax: 5000010
Spatial Reference: 7791
(7791)
Initial Extent:
XMin: 523990
YMin: 4857980.000004992
XMax: 802019.9999902288
YMax: 5000010
Spatial Reference: 7791
(7791)
Full Extent:
XMin: 523990
YMin: 4857980.000004992
XMax: 802019.9999902288
YMax: 5000010
Spatial Reference: 7791
(7791)
Pixel Size X: 0.1999999999929711
Pixel Size Y: 0.19999999999297066
Band Count: 3
Pixel Type: U8
RasterFunction Infos: {"rasterFunctionInfos": [{
"name": "None",
"description": "A No-Op Function.",
"help": ""
}]}
Mensuration Capabilities:
Has Histograms: true
Has Colormap: false
Has Multi Dimensions : false
Rendering Rule:
Min Scale: 0
Max Scale: 0
Copyright Text: Regione Emilia-Romagna - DG REII - Settore Innovazione Digitale, Dati, Tecnologia e Polo Archivistico
Service Data Type: esriImageServiceDataTypeRGB
Min Values: 2, 22, 18
Max Values: 244, 244, 242
Mean Values: 110.89377131057185, 111.60577246314345, 96.3974622841514
Standard Deviation Values: 27.568571595785382, 23.942758541472493, 22.993337902860475
Object ID Field: OBJECTID
Fields:
-
OBJECTID
(
type: esriFieldTypeOID, alias: OBJECTID
)
-
Shape
(
type: esriFieldTypeGeometry, alias: Shape
)
-
Name
(
type: esriFieldTypeString, alias: Name, length: 200
)
-
MinPS
(
type: esriFieldTypeDouble, alias: MinPS
)
-
MaxPS
(
type: esriFieldTypeDouble, alias: MaxPS
)
-
LowPS
(
type: esriFieldTypeDouble, alias: LowPS
)
-
HighPS
(
type: esriFieldTypeDouble, alias: HighPS
)
-
Category
(
type: esriFieldTypeInteger, alias: Category
, Coded Values:
[0: Unknown]
, [1: Primary]
, [2: Overview]
, ...6 more...
)
-
Tag
(
type: esriFieldTypeString, alias: Tag, length: 100
)
-
GroupName
(
type: esriFieldTypeString, alias: GroupName, length: 100
)
-
ProductName
(
type: esriFieldTypeString, alias: ProductName, length: 100
)
-
CenterX
(
type: esriFieldTypeDouble, alias: CenterX
)
-
CenterY
(
type: esriFieldTypeDouble, alias: CenterY
)
-
ZOrder
(
type: esriFieldTypeInteger, alias: ZOrder
)
-
Shape_Length
(
type: esriFieldTypeDouble, alias: Shape_Length
)
-
Shape_Area
(
type: esriFieldTypeDouble, alias: Shape_Area
)
Default Mosaic Method: Northwest
Allowed Mosaic Methods: NorthWest,Center,LockRaster,ByAttribute,Nadir,Viewpoint,Seamline,None
SortField:
SortValue: null
Mosaic Operator: First
Default Compression Quality: 75
Default Resampling Method: Bilinear
Max Record Count: 1000
Max Image Height: 4100
Max Image Width: 15000
Max Download Image Count: 20
Max Mosaic Image Count: 20
Allow Raster Function: true
Allow Copy: null
Allow Analysis: null
Allow Compute TiePoints: false
Supports Statistics: true
Supports Advanced Queries: true
Use StandardizedQueries: true
Raster Type Infos:
Name: Raster Dataset
Description: Supports all ArcGIS Raster Datasets
Help:
Has Raster Attribute Table: false
Edit Fields Info: null
Ownership Based AccessControl For Rasters: null
Child Resources:
Info
Histograms
Key Properties
Legend
Raster Function Infos
Supported Operations:
Export Image
Query
Identify
Measure
Compute Histograms
Compute Statistics Histograms
Get Samples
Compute Class Statistics
Query Boundary
Compute Pixel Location
Validate
Project