{
 "currentVersion": 10.81,
 "serviceDescription": "Ortoimmagini a quattro bande visualizzabili a colori in NIR, con pixel medio di 20 cm. L'acquisizione delle immagini è realizzata in condizioni con limitata fogliazione, minimi residui di neve e inclinazione dei raggi solari non inferiori a 25°; taglio cartografico: 1000x1000metri.\nPer maggiori informazioni, consultare la pagina di approfondimento https://geoportale.regione.emilia-romagna.it/approfondimenti/rer23_24 \nL'estensione delle aree già disponibili e ulteriori informazioni nel servizio WMS \"metadati_raster\"",
 "name": "public/RER2023_24_NIR",
 "description": "Ortoimmagini a quattro bande visualizzabili a colori in NIR, con pixel medio di 20 cm. L'acquisizione delle immagini è realizzata in condizioni con limitata fogliazione, minimi residui di neve e inclinazione dei raggi solari non inferiori a 25°; taglio cartografico: 1000x1000metri.\nPer maggiori informazioni, consultare la pagina di approfondimento https://geoportale.regione.emilia-romagna.it/approfondimenti/rer23_24 \nL'estensione delle aree già disponibili e ulteriori informazioni nel servizio WMS \"metadati_raster\"",
 "extent": {
  "xmin": 523990,
  "ymin": 4857980.000004992,
  "xmax": 802019.9999902288,
  "ymax": 5000010,
  "spatialReference": {
   "wkid": 7791,
   "latestWkid": 7791
  }
 },
 "initialExtent": {
  "xmin": 523990,
  "ymin": 4857980.000004992,
  "xmax": 802019.9999902288,
  "ymax": 5000010,
  "spatialReference": {
   "wkid": 7791,
   "latestWkid": 7791
  }
 },
 "fullExtent": {
  "xmin": 523990,
  "ymin": 4857980.000004992,
  "xmax": 802019.9999902288,
  "ymax": 5000010,
  "spatialReference": {
   "wkid": 7791,
   "latestWkid": 7791
  }
 },
 "pixelSizeX": 0.1999999999929711,
 "pixelSizeY": 0.19999999999297066,
 "bandCount": 3,
 "pixelType": "U8",
 "minPixelSize": 0,
 "maxPixelSize": 0,
 "copyrightText": "Regione Emilia-Romagna - DG REII - Settore Innovazione Digitale, Dati, Tecnologia e Polo Archivistico",
 "serviceDataType": "esriImageServiceDataTypeRGB",
 "minValues": [
  2,
  22,
  18
 ],
 "maxValues": [
  244,
  244,
  242
 ],
 "meanValues": [
  110.89377131057185,
  111.60577246314345,
  96.3974622841514
 ],
 "stdvValues": [
  27.568571595785382,
  23.942758541472493,
  22.993337902860475
 ],
 "objectIdField": "OBJECTID",
 "fields": [
  {
   "name": "OBJECTID",
   "type": "esriFieldTypeOID",
   "alias": "OBJECTID",
   "domain": null
  },
  {
   "name": "Shape",
   "type": "esriFieldTypeGeometry",
   "alias": "Shape",
   "domain": null
  },
  {
   "name": "Name",
   "type": "esriFieldTypeString",
   "alias": "Name",
   "domain": null,
   "length": 200
  },
  {
   "name": "MinPS",
   "type": "esriFieldTypeDouble",
   "alias": "MinPS",
   "domain": null
  },
  {
   "name": "MaxPS",
   "type": "esriFieldTypeDouble",
   "alias": "MaxPS",
   "domain": null
  },
  {
   "name": "LowPS",
   "type": "esriFieldTypeDouble",
   "alias": "LowPS",
   "domain": null
  },
  {
   "name": "HighPS",
   "type": "esriFieldTypeDouble",
   "alias": "HighPS",
   "domain": null
  },
  {
   "name": "Category",
   "type": "esriFieldTypeInteger",
   "alias": "Category",
   "domain": {
    "type": "codedValue",
    "name": "MosaicCatalogItemCategoryDomain",
    "description": "Catalog item categories.",
    "codedValues": [
     {
      "name": "Unknown",
      "code": 0
     },
     {
      "name": "Primary",
      "code": 1
     },
     {
      "name": "Overview",
      "code": 2
     },
     {
      "name": "Unprocessed Overview",
      "code": 3
     },
     {
      "name": "Partial Overview",
      "code": 4
     },
     {
      "name": "Inactive",
      "code": 5
     },
     {
      "name": "Uploaded",
      "code": 253
     },
     {
      "name": "Incomplete",
      "code": 254
     },
     {
      "name": "Custom",
      "code": 255
     }
    ],
    "mergePolicy": "esriMPTDefaultValue",
    "splitPolicy": "esriSPTDefaultValue"
   }
  },
  {
   "name": "Tag",
   "type": "esriFieldTypeString",
   "alias": "Tag",
   "domain": null,
   "length": 100
  },
  {
   "name": "GroupName",
   "type": "esriFieldTypeString",
   "alias": "GroupName",
   "domain": null,
   "length": 100
  },
  {
   "name": "ProductName",
   "type": "esriFieldTypeString",
   "alias": "ProductName",
   "domain": null,
   "length": 100
  },
  {
   "name": "CenterX",
   "type": "esriFieldTypeDouble",
   "alias": "CenterX",
   "domain": null
  },
  {
   "name": "CenterY",
   "type": "esriFieldTypeDouble",
   "alias": "CenterY",
   "domain": null
  },
  {
   "name": "ZOrder",
   "type": "esriFieldTypeInteger",
   "alias": "ZOrder",
   "domain": null
  },
  {
   "name": "Shape_Length",
   "type": "esriFieldTypeDouble",
   "alias": "Shape_Length",
   "domain": null
  },
  {
   "name": "Shape_Area",
   "type": "esriFieldTypeDouble",
   "alias": "Shape_Area",
   "domain": null
  }
 ],
 "capabilities": "Catalog,Mensuration,Image,Metadata",
 "defaultMosaicMethod": "Northwest",
 "allowedMosaicMethods": "NorthWest,Center,LockRaster,ByAttribute,Nadir,Viewpoint,Seamline,None",
 "sortField": "",
 "sortValue": null,
 "sortAscending": true,
 "mosaicOperator": "First",
 "maxDownloadSizeLimit": 2048,
 "defaultCompressionQuality": 75,
 "defaultResamplingMethod": "Bilinear",
 "maxImageHeight": 4100,
 "maxImageWidth": 15000,
 "maxRecordCount": 1000,
 "maxDownloadImageCount": 20,
 "maxMosaicImageCount": 20,
 "allowRasterFunction": true,
 "rasterFunctionInfos": [
  {
   "name": "None",
   "description": "A No-Op Function.",
   "help": ""
  }
 ],
 "rasterTypeInfos": [
  {
   "name": "Raster Dataset",
   "description": "Supports all ArcGIS Raster Datasets",
   "help": ""
  }
 ],
 "mensurationCapabilities": "",
 "hasHistograms": true,
 "hasColormap": false,
 "hasRasterAttributeTable": false,
 "minScale": 0,
 "maxScale": 0,
 "exportTilesAllowed": false,
 "hasMultidimensions": false,
 "supportsStatistics": true,
 "supportsAdvancedQueries": true,
 "editFieldsInfo": null,
 "ownershipBasedAccessControlForRasters": null,
 "allowComputeTiePoints": false,
 "useStandardizedQueries": true,
 "advancedQueryCapabilities": {
  "useStandardizedQueries": true,
  "supportsStatistics": true,
  "supportsOrderBy": true,
  "supportsDistinct": true,
  "supportsPagination": true
 },
 "spatialReference": {
  "wkid": 7791,
  "latestWkid": 7791
 }
}
