View In:
ArcGIS JavaScript
ArcGIS Online map viewer
ArcGIS Earth
ArcMap
View Footprint In:
ArcGIS Online map viewer
Service Description: DTM 50cm - RER 2023-24
Modello digitale del Terreno in formato griglia. Il prodotto rappresenta l'altimetria attraverso un modello a celle di 0,5 metri x 0,5 metri a cui è associata l'informazione di quota. Il modello è derivato dalle informazioni altimetriche ricavate da rilievi LiDAR (aereo) L'acquisizione delle immagini è stata realizzata in condizioni con limitata fogliazione, minimi residui di neve e inclinazione dei raggi solari non inferiori a 25°; taglio cartografico: 1000x1000metri. Per maggiori informazioni, consultare la pagina di approfondimento https://geoportale.regione.emilia-romagna.it/approfondimenti/rer23_24 L'estensione delle aree già disponibili e ulteriori informazioni nel servizio WMS "metadati_raster"
Name: public/DtmRER2023_24
Description: DTM 50cm - RER 2023-24
Modello digitale del Terreno in formato griglia. Il prodotto rappresenta l'altimetria attraverso un modello a celle di 0,5 metri x 0,5 metri a cui è associata l'informazione di quota. Il modello è derivato dalle informazioni altimetriche ricavate da rilievi LiDAR (aereo) L'acquisizione delle immagini è stata realizzata in condizioni con limitata fogliazione, minimi residui di neve e inclinazione dei raggi solari non inferiori a 25°; taglio cartografico: 1000x1000metri. Per maggiori informazioni, consultare la pagina di approfondimento https://geoportale.regione.emilia-romagna.it/approfondimenti/rer23_24 L'estensione delle aree già disponibili e ulteriori informazioni nel servizio WMS "metadati_raster"
Single Fused Map Cache: false
Extent:
XMin: 524186
YMin: 4858357
XMax: 801331.5
YMax: 4999086
Spatial Reference: 7791
(7791)
Initial Extent:
XMin: 524186
YMin: 4858357
XMax: 801331.5
YMax: 4999086
Spatial Reference: 7791
(7791)
Full Extent:
XMin: 524186
YMin: 4858357
XMax: 801331.5
YMax: 4999086
Spatial Reference: 7791
(7791)
Pixel Size X: 0.5
Pixel Size Y: 0.5
Band Count: 1
Pixel Type: F32
RasterFunction Infos: {"rasterFunctionInfos": [{
"name": "None",
"description": "A No-Op Function.",
"help": ""
}]}
Mensuration Capabilities: None
Has Histograms: true
Has Colormap: false
Has Multi Dimensions : false
Rendering Rule:
Min Scale: 0
Max Scale: 0
Copyright Text: Regione Emilia-Romagna - DG REII - Settore Innovazione Digitale, Dati, Tecnologia e Polo Archivistico
Service Data Type: esriImageServiceDataTypeGeneric
Min Values: -3.834275484085083
Max Values: 1236.655517578125
Mean Values: 199.41309607454727
Standard Deviation Values: 222.81212310992083
Object ID Field: OBJECTID
Fields:
-
OBJECTID
(
type: esriFieldTypeOID, alias: OBJECTID
)
-
Shape
(
type: esriFieldTypeGeometry, alias: Shape
)
-
Name
(
type: esriFieldTypeString, alias: Name, length: 200
)
-
MinPS
(
type: esriFieldTypeDouble, alias: MinPS
)
-
MaxPS
(
type: esriFieldTypeDouble, alias: MaxPS
)
-
LowPS
(
type: esriFieldTypeDouble, alias: LowPS
)
-
HighPS
(
type: esriFieldTypeDouble, alias: HighPS
)
-
Category
(
type: esriFieldTypeInteger, alias: Category
, Coded Values:
[0: Unknown]
, [1: Primary]
, [2: Overview]
, ...6 more...
)
-
Tag
(
type: esriFieldTypeString, alias: Tag, length: 100
)
-
GroupName
(
type: esriFieldTypeString, alias: GroupName, length: 100
)
-
ProductName
(
type: esriFieldTypeString, alias: ProductName, length: 100
)
-
CenterX
(
type: esriFieldTypeDouble, alias: CenterX
)
-
CenterY
(
type: esriFieldTypeDouble, alias: CenterY
)
-
ZOrder
(
type: esriFieldTypeInteger, alias: ZOrder
)
-
Shape_Length
(
type: esriFieldTypeDouble, alias: Shape_Length
)
-
Shape_Area
(
type: esriFieldTypeDouble, alias: Shape_Area
)
Default Mosaic Method: Northwest
Allowed Mosaic Methods: NorthWest,Center,LockRaster,ByAttribute,Nadir,Viewpoint,Seamline,None
SortField:
SortValue: null
Mosaic Operator: First
Default Compression Quality: 75
Default Resampling Method: Bilinear
Max Record Count: 1000
Max Image Height: 4096
Max Image Width: 4096
Max Download Image Count: 20
Max Mosaic Image Count: 20
Allow Raster Function: true
Allow Copy: null
Allow Analysis: null
Allow Compute TiePoints: false
Supports Statistics: true
Supports Advanced Queries: true
Use StandardizedQueries: true
Raster Type Infos:
Name: Raster Dataset
Description: Supports all ArcGIS Raster Datasets
Help:
Has Raster Attribute Table: false
Edit Fields Info: null
Ownership Based AccessControl For Rasters: null
Child Resources:
Info
Histograms
Key Properties
Legend
Raster Function Infos
Supported Operations:
Export Image
Query
Identify
Compute Histograms
Compute Statistics Histograms
Get Samples
Compute Class Statistics
Query Boundary
Compute Pixel Location
Validate
Project