{
 "currentVersion": 10.81,
 "serviceDescription": "DTM 50cm - RER 2023-24\nModello digitale del Terreno in formato griglia. Il prodotto rappresenta l'altimetria attraverso un modello a celle di 0,5 metri x 0,5 metri a cui è associata l'informazione di quota. Il modello è derivato dalle informazioni altimetriche ricavate da rilievi LiDAR (aereo) L'acquisizione delle immagini è stata realizzata in condizioni con limitata fogliazione, minimi residui di neve e inclinazione dei raggi solari non inferiori a 25°; taglio cartografico: 1000x1000metri. \nPer maggiori informazioni, consultare la pagina di approfondimento https://geoportale.regione.emilia-romagna.it/approfondimenti/rer23_24 \nL'estensione delle aree già disponibili e ulteriori informazioni nel servizio WMS \"metadati_raster\"\n",
 "name": "public/DtmRER2023_24",
 "description": "DTM 50cm - RER 2023-24\nModello digitale del Terreno in formato griglia. Il prodotto rappresenta l'altimetria attraverso un modello a celle di 0,5 metri x 0,5 metri a cui è associata l'informazione di quota. Il modello è derivato dalle informazioni altimetriche ricavate da rilievi LiDAR (aereo) L'acquisizione delle immagini è stata realizzata in condizioni con limitata fogliazione, minimi residui di neve e inclinazione dei raggi solari non inferiori a 25°; taglio cartografico: 1000x1000metri. \nPer maggiori informazioni, consultare la pagina di approfondimento https://geoportale.regione.emilia-romagna.it/approfondimenti/rer23_24 \nL'estensione delle aree già disponibili e ulteriori informazioni nel servizio WMS \"metadati_raster\"\n",
 "extent": {
  "xmin": 524186,
  "ymin": 4858357,
  "xmax": 801331.5,
  "ymax": 4999086,
  "spatialReference": {
   "wkid": 7791,
   "latestWkid": 7791
  }
 },
 "initialExtent": {
  "xmin": 524186,
  "ymin": 4858357,
  "xmax": 801331.5,
  "ymax": 4999086,
  "spatialReference": {
   "wkid": 7791,
   "latestWkid": 7791
  }
 },
 "fullExtent": {
  "xmin": 524186,
  "ymin": 4858357,
  "xmax": 801331.5,
  "ymax": 4999086,
  "spatialReference": {
   "wkid": 7791,
   "latestWkid": 7791
  }
 },
 "pixelSizeX": 0.5,
 "pixelSizeY": 0.5,
 "bandCount": 1,
 "pixelType": "F32",
 "minPixelSize": 0,
 "maxPixelSize": 0,
 "copyrightText": "Regione Emilia-Romagna - DG REII - Settore Innovazione Digitale, Dati, Tecnologia e Polo Archivistico",
 "serviceDataType": "esriImageServiceDataTypeGeneric",
 "minValues": [
  -3.834275484085083
 ],
 "maxValues": [
  1236.655517578125
 ],
 "meanValues": [
  199.41309607454727
 ],
 "stdvValues": [
  222.81212310992083
 ],
 "objectIdField": "OBJECTID",
 "fields": [
  {
   "name": "OBJECTID",
   "type": "esriFieldTypeOID",
   "alias": "OBJECTID",
   "domain": null
  },
  {
   "name": "Shape",
   "type": "esriFieldTypeGeometry",
   "alias": "Shape",
   "domain": null
  },
  {
   "name": "Name",
   "type": "esriFieldTypeString",
   "alias": "Name",
   "domain": null,
   "length": 200
  },
  {
   "name": "MinPS",
   "type": "esriFieldTypeDouble",
   "alias": "MinPS",
   "domain": null
  },
  {
   "name": "MaxPS",
   "type": "esriFieldTypeDouble",
   "alias": "MaxPS",
   "domain": null
  },
  {
   "name": "LowPS",
   "type": "esriFieldTypeDouble",
   "alias": "LowPS",
   "domain": null
  },
  {
   "name": "HighPS",
   "type": "esriFieldTypeDouble",
   "alias": "HighPS",
   "domain": null
  },
  {
   "name": "Category",
   "type": "esriFieldTypeInteger",
   "alias": "Category",
   "domain": {
    "type": "codedValue",
    "name": "MosaicCatalogItemCategoryDomain",
    "description": "Catalog item categories.",
    "codedValues": [
     {
      "name": "Unknown",
      "code": 0
     },
     {
      "name": "Primary",
      "code": 1
     },
     {
      "name": "Overview",
      "code": 2
     },
     {
      "name": "Unprocessed Overview",
      "code": 3
     },
     {
      "name": "Partial Overview",
      "code": 4
     },
     {
      "name": "Inactive",
      "code": 5
     },
     {
      "name": "Uploaded",
      "code": 253
     },
     {
      "name": "Incomplete",
      "code": 254
     },
     {
      "name": "Custom",
      "code": 255
     }
    ],
    "mergePolicy": "esriMPTDefaultValue",
    "splitPolicy": "esriSPTDefaultValue"
   }
  },
  {
   "name": "Tag",
   "type": "esriFieldTypeString",
   "alias": "Tag",
   "domain": null,
   "length": 100
  },
  {
   "name": "GroupName",
   "type": "esriFieldTypeString",
   "alias": "GroupName",
   "domain": null,
   "length": 100
  },
  {
   "name": "ProductName",
   "type": "esriFieldTypeString",
   "alias": "ProductName",
   "domain": null,
   "length": 100
  },
  {
   "name": "CenterX",
   "type": "esriFieldTypeDouble",
   "alias": "CenterX",
   "domain": null
  },
  {
   "name": "CenterY",
   "type": "esriFieldTypeDouble",
   "alias": "CenterY",
   "domain": null
  },
  {
   "name": "ZOrder",
   "type": "esriFieldTypeInteger",
   "alias": "ZOrder",
   "domain": null
  },
  {
   "name": "Shape_Length",
   "type": "esriFieldTypeDouble",
   "alias": "Shape_Length",
   "domain": null
  },
  {
   "name": "Shape_Area",
   "type": "esriFieldTypeDouble",
   "alias": "Shape_Area",
   "domain": null
  }
 ],
 "capabilities": "Catalog,Image,Metadata",
 "defaultMosaicMethod": "Northwest",
 "allowedMosaicMethods": "NorthWest,Center,LockRaster,ByAttribute,Nadir,Viewpoint,Seamline,None",
 "sortField": "",
 "sortValue": null,
 "sortAscending": true,
 "mosaicOperator": "First",
 "maxDownloadSizeLimit": 2048,
 "defaultCompressionQuality": 75,
 "defaultResamplingMethod": "Bilinear",
 "maxImageHeight": 4096,
 "maxImageWidth": 4096,
 "maxRecordCount": 1000,
 "maxDownloadImageCount": 20,
 "maxMosaicImageCount": 20,
 "allowRasterFunction": true,
 "rasterFunctionInfos": [
  {
   "name": "None",
   "description": "A No-Op Function.",
   "help": ""
  }
 ],
 "rasterTypeInfos": [
  {
   "name": "Raster Dataset",
   "description": "Supports all ArcGIS Raster Datasets",
   "help": ""
  }
 ],
 "mensurationCapabilities": "None",
 "hasHistograms": true,
 "hasColormap": false,
 "hasRasterAttributeTable": false,
 "minScale": 0,
 "maxScale": 0,
 "exportTilesAllowed": false,
 "hasMultidimensions": false,
 "supportsStatistics": true,
 "supportsAdvancedQueries": true,
 "editFieldsInfo": null,
 "ownershipBasedAccessControlForRasters": null,
 "allowComputeTiePoints": false,
 "useStandardizedQueries": true,
 "advancedQueryCapabilities": {
  "useStandardizedQueries": true,
  "supportsStatistics": true,
  "supportsOrderBy": true,
  "supportsDistinct": true,
  "supportsPagination": true
 },
 "spatialReference": {
  "wkid": 7791,
  "latestWkid": 7791
 }
}
