View In:
ArcGIS JavaScript
ArcGIS Online map viewer
ArcGIS Earth
ArcMap
View Footprint In:
ArcGIS Online map viewer
Service Description: WCS del DTM 0,5x0,5 metri della Regione Emilia Romagna. Modello digitale del Terreno in formato griglia. Il prodotto rappresenta l'altimetria attraverso un modello a celle di 0,5 metri x 0,5 metri a cui è associata l'informazione di quota. Il modello è derivato dalle informazioni altimetriche ricavate da rilievi LiDAR (aereo) realizzati nel periodo febbraio-maggio 2022 e gennaio 2023, in modo da ottenere dati al suolo in una situazione con ridotta fogliazione; taglio cartografico 1000x1000 metri. Territorio interessato: bacino torrente Enza (porzione), crinale appenninico nelle province di Bologna e Modena, areale Parco Vena del Gesso Romagnola, capoluoghi di Imola e Faenza, areale dei 9 Comuni della Valmarecchia entrati in Regione Emilia-Romagna nel 2009 e nel 2021, costa (e porzione di entroterra) ferrarese.
Name: public/DtmRER2022
Description: WCS del DTM 0,5x0,5 metri della Regione Emilia Romagna. Modello digitale del Terreno in formato griglia. Il prodotto rappresenta l'altimetria attraverso un modello a celle di 0,5 metri x 0,5 metri a cui è associata l'informazione di quota. Il modello è derivato dalle informazioni altimetriche ricavate da rilievi LiDAR (aereo) realizzati nel periodo febbraio-maggio 2022 e gennaio 2023, in modo da ottenere dati al suolo in una situazione con ridotta fogliazione; taglio cartografico 1000x1000 metri. Territorio interessato: bacino torrente Enza (porzione), crinale appenninico nelle province di Bologna e Modena, areale Parco Vena del Gesso Romagnola, capoluoghi di Imola e Faenza, areale dei 9 Comuni della Valmarecchia entrati in Regione Emilia-Romagna nel 2009 e nel 2021, costa (e porzione di entroterra) ferrarese.
Single Fused Map Cache: false
Extent:
XMin: 605163.5
YMin: 4846922
XMax: 784598
YMax: 4981947
Spatial Reference: 7791
(7791)
Initial Extent:
XMin: 605163.5
YMin: 4846922
XMax: 784598
YMax: 4981947
Spatial Reference: 7791
(7791)
Full Extent:
XMin: 605163.5
YMin: 4846922
XMax: 784598
YMax: 4981947
Spatial Reference: 7791
(7791)
Pixel Size X: 0.5
Pixel Size Y: 0.5
Band Count: 1
Pixel Type: F32
RasterFunction Infos: {"rasterFunctionInfos": [{
"name": "None",
"description": "A No-Op Function.",
"help": ""
}]}
Mensuration Capabilities: None
Has Histograms: true
Has Colormap: false
Has Multi Dimensions : false
Rendering Rule:
Min Scale: 0
Max Scale: 0
Copyright Text: Regione Emilia-Romagna
Service Data Type: esriImageServiceDataTypeGeneric
Min Values: -3.5185203552246094
Max Values: 2132.46484375
Mean Values: 379.9574267517222
Standard Deviation Values: 442.7127599198839
Object ID Field: OBJECTID
Fields:
-
OBJECTID
(
type: esriFieldTypeOID, alias: OBJECTID
)
-
Shape
(
type: esriFieldTypeGeometry, alias: Shape
)
-
Name
(
type: esriFieldTypeString, alias: Name, length: 200
)
-
MinPS
(
type: esriFieldTypeDouble, alias: MinPS
)
-
MaxPS
(
type: esriFieldTypeDouble, alias: MaxPS
)
-
LowPS
(
type: esriFieldTypeDouble, alias: LowPS
)
-
HighPS
(
type: esriFieldTypeDouble, alias: HighPS
)
-
Category
(
type: esriFieldTypeInteger, alias: Category
, Coded Values:
[0: Unknown]
, [1: Primary]
, [2: Overview]
, ...6 more...
)
-
Tag
(
type: esriFieldTypeString, alias: Tag, length: 100
)
-
GroupName
(
type: esriFieldTypeString, alias: GroupName, length: 100
)
-
ProductName
(
type: esriFieldTypeString, alias: ProductName, length: 100
)
-
CenterX
(
type: esriFieldTypeDouble, alias: CenterX
)
-
CenterY
(
type: esriFieldTypeDouble, alias: CenterY
)
-
ZOrder
(
type: esriFieldTypeInteger, alias: ZOrder
)
-
Shape_Length
(
type: esriFieldTypeDouble, alias: Shape_Length
)
-
Shape_Area
(
type: esriFieldTypeDouble, alias: Shape_Area
)
-
Thumbnail
(
type: esriFieldTypeBlob, alias: Thumbnail
)
Default Mosaic Method: Northwest
Allowed Mosaic Methods: NorthWest,Center,LockRaster,ByAttribute,Nadir,Viewpoint,Seamline,None
SortField:
SortValue: null
Mosaic Operator: First
Default Compression Quality: 75
Default Resampling Method: Nearest
Max Record Count: 1000
Max Image Height: 4100
Max Image Width: 15000
Max Download Image Count: 20
Max Mosaic Image Count: 20
Allow Raster Function: true
Allow Copy: null
Allow Analysis: null
Allow Compute TiePoints: false
Supports Statistics: true
Supports Advanced Queries: true
Use StandardizedQueries: true
Raster Type Infos:
Name: Raster Dataset
Description: Supports all ArcGIS Raster Datasets
Help:
Has Raster Attribute Table: false
Edit Fields Info: null
Ownership Based AccessControl For Rasters: null
Child Resources:
Info
Histograms
Key Properties
Legend
Raster Function Infos
Supported Operations:
Export Image
Query
Identify
Compute Histograms
Compute Statistics Histograms
Get Samples
Compute Class Statistics
Query Boundary
Compute Pixel Location
Validate
Project