{
 "currentVersion": 10.81,
 "serviceDescription": "WCS del DTM 0,5x0,5 metri della Regione Emilia Romagna. Modello digitale del Terreno in formato griglia. Il prodotto rappresenta l'altimetria attraverso un modello a celle di 0,5 metri x 0,5 metri a cui è associata l'informazione di quota. Il modello è derivato dalle informazioni altimetriche ricavate da rilievi LiDAR (aereo) realizzati nel periodo febbraio-maggio 2022 e gennaio 2023, in modo da ottenere dati al suolo in una situazione con ridotta fogliazione; taglio cartografico 1000x1000 metri. Territorio interessato: bacino torrente Enza (porzione), crinale appenninico nelle province di Bologna e Modena, areale Parco Vena del Gesso Romagnola, capoluoghi di Imola e Faenza, areale dei 9 Comuni della Valmarecchia entrati in Regione Emilia-Romagna nel 2009 e nel 2021, costa (e porzione di entroterra) ferrarese. ",
 "name": "public/DtmRER2022",
 "description": "WCS del DTM 0,5x0,5 metri della Regione Emilia Romagna. Modello digitale del Terreno in formato griglia. Il prodotto rappresenta l'altimetria attraverso un modello a celle di 0,5 metri x 0,5 metri a cui è associata l'informazione di quota. Il modello è derivato dalle informazioni altimetriche ricavate da rilievi LiDAR (aereo) realizzati nel periodo febbraio-maggio 2022 e gennaio 2023, in modo da ottenere dati al suolo in una situazione con ridotta fogliazione; taglio cartografico 1000x1000 metri. Territorio interessato: bacino torrente Enza (porzione), crinale appenninico nelle province di Bologna e Modena, areale Parco Vena del Gesso Romagnola, capoluoghi di Imola e Faenza, areale dei 9 Comuni della Valmarecchia entrati in Regione Emilia-Romagna nel 2009 e nel 2021, costa (e porzione di entroterra) ferrarese. ",
 "extent": {
  "xmin": 605163.5,
  "ymin": 4846922,
  "xmax": 784598,
  "ymax": 4981947,
  "spatialReference": {
   "wkid": 7791,
   "latestWkid": 7791
  }
 },
 "initialExtent": {
  "xmin": 605163.5,
  "ymin": 4846922,
  "xmax": 784598,
  "ymax": 4981947,
  "spatialReference": {
   "wkid": 7791,
   "latestWkid": 7791
  }
 },
 "fullExtent": {
  "xmin": 605163.5,
  "ymin": 4846922,
  "xmax": 784598,
  "ymax": 4981947,
  "spatialReference": {
   "wkid": 7791,
   "latestWkid": 7791
  }
 },
 "pixelSizeX": 0.5,
 "pixelSizeY": 0.5,
 "bandCount": 1,
 "pixelType": "F32",
 "minPixelSize": 0,
 "maxPixelSize": 0,
 "copyrightText": "Regione Emilia-Romagna",
 "serviceDataType": "esriImageServiceDataTypeGeneric",
 "minValues": [
  -3.5185203552246094
 ],
 "maxValues": [
  2132.46484375
 ],
 "meanValues": [
  379.9574267517222
 ],
 "stdvValues": [
  442.7127599198839
 ],
 "objectIdField": "OBJECTID",
 "fields": [
  {
   "name": "OBJECTID",
   "type": "esriFieldTypeOID",
   "alias": "OBJECTID",
   "domain": null
  },
  {
   "name": "Shape",
   "type": "esriFieldTypeGeometry",
   "alias": "Shape",
   "domain": null
  },
  {
   "name": "Name",
   "type": "esriFieldTypeString",
   "alias": "Name",
   "domain": null,
   "length": 200
  },
  {
   "name": "MinPS",
   "type": "esriFieldTypeDouble",
   "alias": "MinPS",
   "domain": null
  },
  {
   "name": "MaxPS",
   "type": "esriFieldTypeDouble",
   "alias": "MaxPS",
   "domain": null
  },
  {
   "name": "LowPS",
   "type": "esriFieldTypeDouble",
   "alias": "LowPS",
   "domain": null
  },
  {
   "name": "HighPS",
   "type": "esriFieldTypeDouble",
   "alias": "HighPS",
   "domain": null
  },
  {
   "name": "Category",
   "type": "esriFieldTypeInteger",
   "alias": "Category",
   "domain": {
    "type": "codedValue",
    "name": "MosaicCatalogItemCategoryDomain",
    "description": "Catalog item categories.",
    "codedValues": [
     {
      "name": "Unknown",
      "code": 0
     },
     {
      "name": "Primary",
      "code": 1
     },
     {
      "name": "Overview",
      "code": 2
     },
     {
      "name": "Unprocessed Overview",
      "code": 3
     },
     {
      "name": "Partial Overview",
      "code": 4
     },
     {
      "name": "Inactive",
      "code": 5
     },
     {
      "name": "Uploaded",
      "code": 253
     },
     {
      "name": "Incomplete",
      "code": 254
     },
     {
      "name": "Custom",
      "code": 255
     }
    ],
    "mergePolicy": "esriMPTDefaultValue",
    "splitPolicy": "esriSPTDefaultValue"
   }
  },
  {
   "name": "Tag",
   "type": "esriFieldTypeString",
   "alias": "Tag",
   "domain": null,
   "length": 100
  },
  {
   "name": "GroupName",
   "type": "esriFieldTypeString",
   "alias": "GroupName",
   "domain": null,
   "length": 100
  },
  {
   "name": "ProductName",
   "type": "esriFieldTypeString",
   "alias": "ProductName",
   "domain": null,
   "length": 100
  },
  {
   "name": "CenterX",
   "type": "esriFieldTypeDouble",
   "alias": "CenterX",
   "domain": null
  },
  {
   "name": "CenterY",
   "type": "esriFieldTypeDouble",
   "alias": "CenterY",
   "domain": null
  },
  {
   "name": "ZOrder",
   "type": "esriFieldTypeInteger",
   "alias": "ZOrder",
   "domain": null
  },
  {
   "name": "Shape_Length",
   "type": "esriFieldTypeDouble",
   "alias": "Shape_Length",
   "domain": null
  },
  {
   "name": "Shape_Area",
   "type": "esriFieldTypeDouble",
   "alias": "Shape_Area",
   "domain": null
  },
  {
   "name": "Thumbnail",
   "type": "esriFieldTypeBlob",
   "alias": "Thumbnail",
   "domain": null
  }
 ],
 "capabilities": "Image,Metadata,Catalog",
 "defaultMosaicMethod": "Northwest",
 "allowedMosaicMethods": "NorthWest,Center,LockRaster,ByAttribute,Nadir,Viewpoint,Seamline,None",
 "sortField": "",
 "sortValue": null,
 "sortAscending": true,
 "mosaicOperator": "First",
 "maxDownloadSizeLimit": 2048,
 "defaultCompressionQuality": 75,
 "defaultResamplingMethod": "Nearest",
 "maxImageHeight": 4100,
 "maxImageWidth": 15000,
 "maxRecordCount": 1000,
 "maxDownloadImageCount": 20,
 "maxMosaicImageCount": 20,
 "allowRasterFunction": true,
 "rasterFunctionInfos": [
  {
   "name": "None",
   "description": "A No-Op Function.",
   "help": ""
  }
 ],
 "rasterTypeInfos": [
  {
   "name": "Raster Dataset",
   "description": "Supports all ArcGIS Raster Datasets",
   "help": ""
  }
 ],
 "mensurationCapabilities": "None",
 "hasHistograms": true,
 "hasColormap": false,
 "hasRasterAttributeTable": false,
 "minScale": 0,
 "maxScale": 0,
 "exportTilesAllowed": false,
 "hasMultidimensions": false,
 "supportsStatistics": true,
 "supportsAdvancedQueries": true,
 "editFieldsInfo": null,
 "ownershipBasedAccessControlForRasters": null,
 "allowComputeTiePoints": false,
 "useStandardizedQueries": true,
 "advancedQueryCapabilities": {
  "useStandardizedQueries": true,
  "supportsStatistics": true,
  "supportsOrderBy": true,
  "supportsDistinct": true,
  "supportsPagination": true
 },
 "spatialReference": {
  "wkid": 7791,
  "latestWkid": 7791
 }
}
