View In:
ArcGIS JavaScript
ArcGIS Online map viewer
ArcGIS Earth
ArcMap
View Footprint In:
ArcGIS Online map viewer
Service Description: Immagini satellitari NDVI ricavate tramite applicazione di funzione extract band su immagini 8 bande © 2023 Planet Labs PBC, acquisite nelle seguenti giornate: 04/05, 05/05, 06/05, 21/5, 22/5, 23/5, 24/5, 25/5, 26/5, 27/5, 31/5, 01/06, 02/06, 03/06, 04/06, con risoluzione 1 px/3 m. Bande utilizzate: 7 8 1. Risoluzione: 1 px/ 3 m.
Name: public/Planet_emg_202305_NDVI
Description: Immagini satellitari NDVI ricavate tramite applicazione di funzione extract band su immagini 8 bande © 2023 Planet Labs PBC, acquisite nelle seguenti giornate: 04/05, 05/05, 06/05, 21/5, 22/5, 23/5, 24/5, 25/5, 26/5, 27/5, 31/5, 01/06, 02/06, 03/06, 04/06, con risoluzione 1 px/3 m. Bande utilizzate: 7 8 1. Risoluzione: 1 px/ 3 m.
Single Fused Map Cache: false
Extent:
XMin: 195546
YMin: 4900077
XMax: 289863
YMax: 4960437
Spatial Reference: 32633
(32633)
Initial Extent:
XMin: 195546
YMin: 4900077
XMax: 289863
YMax: 4960437
Spatial Reference: 32633
(32633)
Full Extent:
XMin: 195546
YMin: 4900077
XMax: 289863
YMax: 4960437
Spatial Reference: 32633
(32633)
Time Info:
Start Time Field: Date
End Time Field: Date
Time Extent:
[2023/05/04 00:00:00 UTC, 2023/06/04 00:00:00 UTC]
Time Reference:
N/A
Pixel Size X: 3.0
Pixel Size Y: 3.0
Band Count: 3
Pixel Type: U16
RasterFunction Infos: {"rasterFunctionInfos": [{
"name": "None",
"description": "A No-Op Function.",
"help": ""
}]}
Mensuration Capabilities: Basic
Has Histograms: true
Has Colormap: false
Has Multi Dimensions : false
Rendering Rule:
Min Scale: 0
Max Scale: 0
Copyright Text: © 2023 Planet Labs PBC
Service Data Type: esriImageServiceDataTypeGeneric
Min Values: 26.5390625, 74.91796875, 56.11328125
Max Values: 26804.546875, 37773.08203125, 20513.88671875
Mean Values: 1403.5357172616316, 3089.323763015222, 960.1929311759903
Standard Deviation Values: 1015.7312999759392, 1571.849927372615, 1016.5153339967575
Object ID Field: OBJECTID
Fields:
-
OBJECTID
(
type: esriFieldTypeOID, alias: OBJECTID
)
-
Shape
(
type: esriFieldTypeGeometry, alias: Shape
)
-
Name
(
type: esriFieldTypeString, alias: Name, length: 200
)
-
MinPS
(
type: esriFieldTypeDouble, alias: MinPS
)
-
MaxPS
(
type: esriFieldTypeDouble, alias: MaxPS
)
-
LowPS
(
type: esriFieldTypeDouble, alias: LowPS
)
-
HighPS
(
type: esriFieldTypeDouble, alias: HighPS
)
-
Category
(
type: esriFieldTypeInteger, alias: Category
, Coded Values:
[0: Unknown]
, [1: Primary]
, [2: Overview]
, ...6 more...
)
-
Tag
(
type: esriFieldTypeString, alias: Tag, length: 100
)
-
GroupName
(
type: esriFieldTypeString, alias: GroupName, length: 100
)
-
ProductName
(
type: esriFieldTypeString, alias: ProductName, length: 100
)
-
CenterX
(
type: esriFieldTypeDouble, alias: CenterX
)
-
CenterY
(
type: esriFieldTypeDouble, alias: CenterY
)
-
ZOrder
(
type: esriFieldTypeInteger, alias: ZOrder
)
-
Thumbnail
(
type: esriFieldTypeBlob, alias: Thumbnail
)
-
Date
(
type: esriFieldTypeString, alias: Date, length: 10
)
-
Shape_Length
(
type: esriFieldTypeDouble, alias: Shape_Length
)
-
Shape_Area
(
type: esriFieldTypeDouble, alias: Shape_Area
)
Default Mosaic Method: Northwest
Allowed Mosaic Methods: NorthWest,Center,LockRaster,ByAttribute,Nadir,Viewpoint,Seamline,None
SortField:
SortValue: null
Mosaic Operator: First
Default Compression Quality: 75
Default Resampling Method: Bilinear
Max Record Count: 1000
Max Image Height: 4100
Max Image Width: 15000
Max Download Image Count: 20
Max Mosaic Image Count: 20
Allow Raster Function: true
Allow Copy: null
Allow Analysis: null
Allow Compute TiePoints: false
Supports Statistics: true
Supports Advanced Queries: true
Use StandardizedQueries: true
Raster Type Infos:
Name: Raster Dataset
Description: Supports all ArcGIS Raster Datasets
Help:
Has Raster Attribute Table: false
Edit Fields Info: null
Ownership Based AccessControl For Rasters: null
Child Resources:
Info
Histograms
Key Properties
Legend
Raster Function Infos
Supported Operations:
Export Image
Query
Identify
Measure
Compute Histograms
Compute Statistics Histograms
Get Samples
Compute Class Statistics
Query Boundary
Compute Pixel Location
Validate
Project