View In:
ArcGIS JavaScript
ArcGIS Online map viewer
ArcGIS Earth
ArcMap
View Footprint In:
ArcGIS Online map viewer
Service Description: DTM post-evento sui corsi d'acqua Tiepido, Samoggia, Lavino, Reno, Savena, Idice e affluenti, Sillaro, Santerno, Senio, Sintria, Lamone, Bevano, Savio, Borello, Montone, Bidente, Voltre, Ronco, Rubicone, Uso, Pisciatello, Marano, Ventene, con celle di 0.5m x 0.5m, derivato da volo lidar effettuato da CGR - Compagnia Generale Riprese aeree S.p.A.
Name: public/Dtm_cgr_emg_fiumi_202305
Description: DTM post-evento sui corsi d'acqua Tiepido, Samoggia, Lavino, Reno, Savena, Idice e affluenti, Sillaro, Santerno, Senio, Sintria, Lamone, Bevano, Savio, Borello, Montone, Bidente, Voltre, Ronco, Rubicone, Uso, Pisciatello, Marano, Ventene, con celle di 0.5m x 0.5m, derivato da volo lidar effettuato da CGR - Compagnia Generale Riprese aeree S.p.A.
Single Fused Map Cache: false
Extent:
XMin: 645505.5
YMin: 4863898
XMax: 799798
YMax: 4943867
Spatial Reference: 7791
(7791)
Initial Extent:
XMin: 645505.5
YMin: 4863898
XMax: 799798
YMax: 4943867
Spatial Reference: 7791
(7791)
Full Extent:
XMin: 645505.5
YMin: 4863898
XMax: 799798
YMax: 4943867
Spatial Reference: 7791
(7791)
Pixel Size X: 0.5
Pixel Size Y: 0.5
Band Count: 1
Pixel Type: F32
RasterFunction Infos: {"rasterFunctionInfos": [{
"name": "None",
"description": "A No-Op Function.",
"help": ""
}]}
Mensuration Capabilities: None
Has Histograms: true
Has Colormap: false
Has Multi Dimensions : false
Rendering Rule:
Min Scale: 0
Max Scale: 0
Copyright Text: Compagnia Generale Riprese aeree S.p.A.
Service Data Type: esriImageServiceDataTypeGeneric
Min Values: -1.7949678897857666
Max Values: 1022.37548828125
Mean Values: 109.36821536551626
Standard Deviation Values: 113.72512217865994
Object ID Field: OBJECTID
Fields:
-
OBJECTID
(
type: esriFieldTypeOID, alias: OBJECTID
)
-
Shape
(
type: esriFieldTypeGeometry, alias: Shape
)
-
Name
(
type: esriFieldTypeString, alias: Name, length: 200
)
-
MinPS
(
type: esriFieldTypeDouble, alias: MinPS
)
-
MaxPS
(
type: esriFieldTypeDouble, alias: MaxPS
)
-
LowPS
(
type: esriFieldTypeDouble, alias: LowPS
)
-
HighPS
(
type: esriFieldTypeDouble, alias: HighPS
)
-
Category
(
type: esriFieldTypeInteger, alias: Category
, Coded Values:
[0: Unknown]
, [1: Primary]
, [2: Overview]
, ...6 more...
)
-
Tag
(
type: esriFieldTypeString, alias: Tag, length: 100
)
-
GroupName
(
type: esriFieldTypeString, alias: GroupName, length: 100
)
-
ProductName
(
type: esriFieldTypeString, alias: ProductName, length: 100
)
-
CenterX
(
type: esriFieldTypeDouble, alias: CenterX
)
-
CenterY
(
type: esriFieldTypeDouble, alias: CenterY
)
-
ZOrder
(
type: esriFieldTypeInteger, alias: ZOrder
)
-
Thumbnail
(
type: esriFieldTypeBlob, alias: Thumbnail
)
-
Shape_Length
(
type: esriFieldTypeDouble, alias: Shape_Length
)
-
Shape_Area
(
type: esriFieldTypeDouble, alias: Shape_Area
)
Default Mosaic Method: Northwest
Allowed Mosaic Methods: NorthWest,Center,LockRaster,ByAttribute,Nadir,Viewpoint,Seamline,None
SortField:
SortValue: null
Mosaic Operator: First
Default Compression Quality: 75
Default Resampling Method: Bilinear
Max Record Count: 1000
Max Image Height: 4100
Max Image Width: 15000
Max Download Image Count: 20
Max Mosaic Image Count: 20
Allow Raster Function: true
Allow Copy: null
Allow Analysis: null
Allow Compute TiePoints: false
Supports Statistics: true
Supports Advanced Queries: true
Use StandardizedQueries: true
Raster Type Infos:
Name: Raster Dataset
Description: Supports all ArcGIS Raster Datasets
Help:
Has Raster Attribute Table: false
Edit Fields Info: null
Ownership Based AccessControl For Rasters: null
Child Resources:
Info
Histograms
Key Properties
Legend
Raster Function Infos
Supported Operations:
Export Image
Query
Identify
Compute Histograms
Compute Statistics Histograms
Get Samples
Compute Class Statistics
Query Boundary
Compute Pixel Location
Validate
Project