View In:
ArcGIS JavaScript
ArcGIS Online map viewer
ArcGIS Earth
ArcMap
View Footprint In:
ArcGIS Online map viewer
Service Description: Fini istituzionali dell’Ente. L’utilizzo per fini istituzionali comprende anche la cessione temporanea a soggetti privati per la realizzazione di progetti e programmi assegnati a condizione che essi siano realizzati nell’ambito di fini esclusivamente pubblici. In tal caso, al soggetto privato assegnatario sarà affidato solo l’uso strettamente necessario alla realizzazione del progetto o programma. Negli elaborati prodotti dovrà essere indicato l’utilizzo del DTM 1x1m realizzato nell’ambito del Piano Straordinario di Telerilevamento del MATTM (Ministero dell’Ambiente e della Tutela del Territorio e del Mare).
Name: public/Dtm1x1PST
Description: Fini istituzionali dell’Ente. L’utilizzo per fini istituzionali comprende anche la cessione temporanea a soggetti privati per la realizzazione di progetti e programmi assegnati a condizione che essi siano realizzati nell’ambito di fini esclusivamente pubblici. In tal caso, al soggetto privato assegnatario sarà affidato solo l’uso strettamente necessario alla realizzazione del progetto o programma. Negli elaborati prodotti dovrà essere indicato l’utilizzo del DTM 1x1m realizzato nell’ambito del Piano Straordinario di Telerilevamento del MATTM (Ministero dell’Ambiente e della Tutela del Territorio e del Mare).
Single Fused Map Cache: false
Extent:
XMin: 522015.3214999996
YMin: 4846741.6766
XMax: 802939.3214999996
YMax: 5003895.6766
Spatial Reference: 23032
(23032)
Initial Extent:
XMin: 522015.3214999996
YMin: 4846741.6766
XMax: 802939.3214999996
YMax: 5003895.6766
Spatial Reference: 23032
(23032)
Full Extent:
XMin: 522015.3214999996
YMin: 4846741.6766
XMax: 802939.3214999996
YMax: 5003895.6766
Spatial Reference: 23032
(23032)
Pixel Size X: 1.0
Pixel Size Y: 1.0
Band Count: 1
Pixel Type: F32
RasterFunction Infos: {"rasterFunctionInfos": [{
"name": "None",
"description": "A No-Op Function.",
"help": ""
}]}
Mensuration Capabilities: None
Has Histograms: false
Has Colormap: false
Has Multi Dimensions : false
Rendering Rule:
Min Scale: 0
Max Scale: 0
Copyright Text: Piano Straordinario di Telerilevamento del MATTM (Ministero dell’Ambiente e della Tutela del Territorio e del Mare)
Service Data Type: esriImageServiceDataTypeGeneric
Min Values: N/A
Max Values: N/A
Mean Values: N/A
Standard Deviation Values: N/A
Object ID Field: OBJECTID
Fields:
-
OBJECTID
(
type: esriFieldTypeOID, alias: OBJECTID
)
-
Shape
(
type: esriFieldTypeGeometry, alias: Shape
)
-
Name
(
type: esriFieldTypeString, alias: Name, length: 200
)
-
MinPS
(
type: esriFieldTypeDouble, alias: MinPS
)
-
MaxPS
(
type: esriFieldTypeDouble, alias: MaxPS
)
-
LowPS
(
type: esriFieldTypeDouble, alias: LowPS
)
-
HighPS
(
type: esriFieldTypeDouble, alias: HighPS
)
-
Category
(
type: esriFieldTypeInteger, alias: Category
, Coded Values:
[0: Unknown]
, [1: Primary]
, [2: Overview]
, ...6 more...
)
-
Tag
(
type: esriFieldTypeString, alias: Tag, length: 100
)
-
GroupName
(
type: esriFieldTypeString, alias: GroupName, length: 100
)
-
ProductName
(
type: esriFieldTypeString, alias: ProductName, length: 100
)
-
CenterX
(
type: esriFieldTypeDouble, alias: CenterX
)
-
CenterY
(
type: esriFieldTypeDouble, alias: CenterY
)
-
ZOrder
(
type: esriFieldTypeInteger, alias: ZOrder
)
-
Shape_Length
(
type: esriFieldTypeDouble, alias: Shape_Length
)
-
Shape_Area
(
type: esriFieldTypeDouble, alias: Shape_Area
)
Default Mosaic Method: Northwest
Allowed Mosaic Methods: NorthWest,Center,LockRaster,ByAttribute,Nadir,Viewpoint,Seamline,None
SortField:
SortValue: null
Mosaic Operator: First
Default Compression Quality: 75
Default Resampling Method: Nearest
Max Record Count: 1000
Max Image Height: 4100
Max Image Width: 15000
Max Download Image Count: 20
Max Mosaic Image Count: 20
Allow Raster Function: true
Allow Copy: null
Allow Analysis: null
Allow Compute TiePoints: false
Supports Statistics: true
Supports Advanced Queries: true
Use StandardizedQueries: true
Raster Type Infos:
Name: Raster Dataset
Description: Supports all ArcGIS Raster Datasets
Help:
Has Raster Attribute Table: false
Edit Fields Info: null
Ownership Based AccessControl For Rasters: null
Child Resources:
Info
Key Properties
Legend
Raster Function Infos
Supported Operations:
Export Image
Query
Identify
Compute Histograms
Compute Statistics Histograms
Get Samples
Compute Class Statistics
Query Boundary
Compute Pixel Location
Validate
Project