View In:
ArcGIS JavaScript
ArcGIS Online map viewer
ArcGIS Earth
ArcMap
View Footprint In:
ArcGIS Online map viewer
Service Description: Ortofoto RGBI 20 cm/px, prodotte a supporto delle diverse attività inerenti all’emergenza alluvionale dell’ottobre 2024, derivate da Fotogrammi da riprese aeree – Commissionate dall’ Agenzia per la sicurezza territoriale e la protezione civile – Regione Emilia-Romagna e realizzate da CGR SpA
Name: public/Apc_emg_202410_rgb
Description: Ortofoto RGBI 20 cm/px, prodotte a supporto delle diverse attività inerenti all’emergenza alluvionale dell’ottobre 2024, derivate da Fotogrammi da riprese aeree – Commissionate dall’ Agenzia per la sicurezza territoriale e la protezione civile – Regione Emilia-Romagna e realizzate da CGR SpA
Single Fused Map Cache: false
Extent:
XMin: 583973.3256000001
YMin: 4909599.9768
XMax: 731610.1256000001
YMax: 4984892.376800001
Spatial Reference: 7791
(7791)
Initial Extent:
XMin: 583973.3256000001
YMin: 4909599.9768
XMax: 731610.1256000001
YMax: 4984892.376800001
Spatial Reference: 7791
(7791)
Full Extent:
XMin: 583973.3256000001
YMin: 4909599.9768
XMax: 731610.1256000001
YMax: 4984892.376800001
Spatial Reference: 7791
(7791)
Pixel Size X: 0.20000000000000007
Pixel Size Y: 0.20000000000000098
Band Count: 3
Pixel Type: U8
RasterFunction Infos: {"rasterFunctionInfos": [{
"name": "None",
"description": "A No-Op Function.",
"help": ""
}]}
Mensuration Capabilities: None
Has Histograms: true
Has Colormap: false
Has Multi Dimensions : false
Rendering Rule:
Min Scale: 0
Max Scale: 0
Copyright Text:
Service Data Type: esriImageServiceDataTypeRGB
Min Values: 25, 26, 26
Max Values: 246, 245, 235
Mean Values: 132.5918136156839, 128.39757605927946, 96.06675091105011
Standard Deviation Values: 30.012559070194996, 23.439837754118816, 23.851985107789528
Object ID Field: OBJECTID
Fields:
-
OBJECTID
(
type: esriFieldTypeOID, alias: OBJECTID
)
-
Shape
(
type: esriFieldTypeGeometry, alias: Shape
)
-
Name
(
type: esriFieldTypeString, alias: Name, length: 200
)
-
MinPS
(
type: esriFieldTypeDouble, alias: MinPS
)
-
MaxPS
(
type: esriFieldTypeDouble, alias: MaxPS
)
-
LowPS
(
type: esriFieldTypeDouble, alias: LowPS
)
-
HighPS
(
type: esriFieldTypeDouble, alias: HighPS
)
-
Category
(
type: esriFieldTypeInteger, alias: Category
, Coded Values:
[0: Unknown]
, [1: Primary]
, [2: Overview]
, ...6 more...
)
-
Tag
(
type: esriFieldTypeString, alias: Tag, length: 100
)
-
GroupName
(
type: esriFieldTypeString, alias: GroupName, length: 100
)
-
ProductName
(
type: esriFieldTypeString, alias: ProductName, length: 100
)
-
CenterX
(
type: esriFieldTypeDouble, alias: CenterX
)
-
CenterY
(
type: esriFieldTypeDouble, alias: CenterY
)
-
ZOrder
(
type: esriFieldTypeInteger, alias: ZOrder
)
-
Shape_Length
(
type: esriFieldTypeDouble, alias: Shape_Length
)
-
Shape_Area
(
type: esriFieldTypeDouble, alias: Shape_Area
)
-
Thumbnail
(
type: esriFieldTypeBlob, alias: Thumbnail
)
Default Mosaic Method: Northwest
Allowed Mosaic Methods: NorthWest,Center,LockRaster,ByAttribute,Nadir,Viewpoint,Seamline,None
SortField:
SortValue: null
Mosaic Operator: First
Default Compression Quality: 75
Default Resampling Method: Bilinear
Max Record Count: 1000
Max Image Height: 4100
Max Image Width: 15000
Max Download Image Count: 20
Max Mosaic Image Count: 20
Allow Raster Function: true
Allow Copy: null
Allow Analysis: null
Allow Compute TiePoints: false
Supports Statistics: true
Supports Advanced Queries: true
Use StandardizedQueries: true
Raster Type Infos:
Name: Raster Dataset
Description: Supports all ArcGIS Raster Datasets
Help:
Has Raster Attribute Table: false
Edit Fields Info: null
Ownership Based AccessControl For Rasters: null
Child Resources:
Info
Histograms
Key Properties
Legend
Raster Function Infos
Supported Operations:
Export Image
Query
Identify
Compute Histograms
Compute Statistics Histograms
Get Samples
Compute Class Statistics
Query Boundary
Compute Pixel Location
Validate
Project