{
 "currentVersion": 10.81,
 "serviceDescription": "",
 "mapName": "Layers",
 "description": "",
 "copyrightText": "",
 "supportsDynamicLayers": false,
 "layers": [
  {
   "id": 0,
   "name": "Ortofoto_CGR_2018_RGB",
   "parentLayerId": -1,
   "defaultVisibility": true,
   "subLayerIds": null,
   "minScale": 0,
   "maxScale": 5000,
   "type": "Feature Layer",
   "geometryType": "esriGeometryPolygon"
  }
 ],
 "tables": [],
 "spatialReference": {
  "wkid": 25832,
  "latestWkid": 25832
 },
 "singleFusedMapCache": true,
 "tileInfo": {
  "rows": 256,
  "cols": 256,
  "dpi": 96,
  "format": "MIXED",
  "compressionQuality": 75,
  "origin": {
   "x": -5120900,
   "y": 9998100
  },
  "spatialReference": {
   "wkid": 25832,
   "latestWkid": 25832
  },
  "lods": [
   {
    "level": 0,
    "resolution": 1322.9193125052918,
    "scale": 5000000
   },
   {
    "level": 1,
    "resolution": 661.4596562526459,
    "scale": 2500000
   },
   {
    "level": 2,
    "resolution": 529.1677250021168,
    "scale": 2000000
   },
   {
    "level": 3,
    "resolution": 463.0217593768521,
    "scale": 1750000
   },
   {
    "level": 4,
    "resolution": 396.87579375158754,
    "scale": 1500000
   },
   {
    "level": 5,
    "resolution": 330.72982812632296,
    "scale": 1250000
   },
   {
    "level": 6,
    "resolution": 264.5838625010584,
    "scale": 1000000
   },
   {
    "level": 7,
    "resolution": 198.43789687579377,
    "scale": 750000
   },
   {
    "level": 8,
    "resolution": 132.2919312505292,
    "scale": 500000
   },
   {
    "level": 9,
    "resolution": 66.1459656252646,
    "scale": 250000
   },
   {
    "level": 10,
    "resolution": 39.687579375158755,
    "scale": 150000
   },
   {
    "level": 11,
    "resolution": 26.458386250105836,
    "scale": 100000
   },
   {
    "level": 12,
    "resolution": 19.843789687579378,
    "scale": 75000
   },
   {
    "level": 13,
    "resolution": 13.229193125052918,
    "scale": 50000
   },
   {
    "level": 14,
    "resolution": 6.614596562526459,
    "scale": 25000
   },
   {
    "level": 15,
    "resolution": 2.6458386250105836,
    "scale": 10000
   },
   {
    "level": 16,
    "resolution": 1.3229193125052918,
    "scale": 5000
   },
   {
    "level": 17,
    "resolution": 0.5291677250021167,
    "scale": 2000
   },
   {
    "level": 18,
    "resolution": 0.26458386250105836,
    "scale": 1000
   }
  ]
 },
 "initialExtent": {
  "xmin": 487987.1188073774,
  "ymin": 4912683.912439956,
  "xmax": 829035.7175712417,
  "ymax": 5013490.364052859,
  "spatialReference": {
   "wkid": 25832,
   "latestWkid": 25832
  }
 },
 "fullExtent": {
  "xmin": 515706.17516236845,
  "ymin": 4846931.520073745,
  "xmax": 801316.6612162506,
  "ymax": 4998809.262218747,
  "spatialReference": {
   "wkid": 25832,
   "latestWkid": 25832
  }
 },
 "minScale": 5000000,
 "maxScale": 1000,
 "units": "esriMeters",
 "supportedImageFormatTypes": "PNG32,PNG24,PNG,JPG,DIB,TIFF,EMF,PS,PDF,GIF,SVG,SVGZ,BMP",
 "documentInfo": {
  "Title": "",
  "Author": "",
  "Comments": "",
  "Subject": "",
  "Category": "",
  "AntialiasingMode": "None",
  "TextAntialiasingMode": "None",
  "Keywords": ""
 },
 "capabilities": "Data,Map,Query,Tilemap",
 "supportedQueryFormats": "JSON, geoJSON",
 "exportTilesAllowed": false,
 "referenceScale": 0,
 "datumTransformations": [
  {
   "geoTransforms": [
    {
     "wkt": "GEOGTRAN[\"CGT_AD400_MM_ETRS89_V1A\",GEOGCS[\"GCS_Monte_Mario\",DATUM[\"D_Monte_Mario\",SPHEROID[\"International_1924\",6378388.0,297.0]],PRIMEM[\"Greenwich\",0.0],UNIT[\"Degree\",0.0174532925199433]],GEOGCS[\"GCS_ETRS_1989\",DATUM[\"D_ETRS_1989\",SPHEROID[\"GRS_1980\",6378137.0,298.257222101]],PRIMEM[\"Greenwich\",0.0],UNIT[\"Degree\",0.0174532925199433]],METHOD[\"NTv2\"],PARAMETER[\"Dataset_it_emirom_ad400_v1/RER_AD400_MM_ETRS89_V1A\",0.0]]",
     "transformForward": true,
     "name": "CGT_AD400_MM_ETRS89_V1A"
    }
   ]
  },
  {
   "geoTransforms": [
    {
     "wkt": "GEOGTRAN[\"CGT_AD400_MM_ETRS89_V1A\",GEOGCS[\"GCS_Monte_Mario\",DATUM[\"D_Monte_Mario\",SPHEROID[\"International_1924\",6378388.0,297.0]],PRIMEM[\"Greenwich\",0.0],UNIT[\"Degree\",0.0174532925199433]],GEOGCS[\"GCS_ETRS_1989\",DATUM[\"D_ETRS_1989\",SPHEROID[\"GRS_1980\",6378137.0,298.257222101]],PRIMEM[\"Greenwich\",0.0],UNIT[\"Degree\",0.0174532925199433]],METHOD[\"NTv2\"],PARAMETER[\"Dataset_it_emirom_ad400_v1/RER_AD400_MM_ETRS89_V1A\",0.0]]",
     "transformForward": false,
     "name": "CGT_AD400_MM_ETRS89_V1A"
    }
   ]
  },
  {
   "geoTransforms": [
    {
     "wkt": "GEOGTRAN[\"CGT_ED50_ETRS89_IGM_K2\",GEOGCS[\"GCS_European_1950\",DATUM[\"D_European_1950\",SPHEROID[\"International_1924\",6378388.0,297.0]],PRIMEM[\"Greenwich\",0.0],UNIT[\"Degree\",0.0174532925199433]],GEOGCS[\"GCS_ETRS_1989\",DATUM[\"D_ETRS_1989\",SPHEROID[\"GRS_1980\",6378137.0,298.257222101]],PRIMEM[\"Greenwich\",0.0],UNIT[\"Degree\",0.0174532925199433]],METHOD[\"NTv2\"],PARAMETER[\"Dataset_it_emirom_GK2/RER_ED50_ETRS89_IGM_K2\",0.0]]",
     "transformForward": false,
     "name": "CGT_ED50_ETRS89_IGM_K2"
    }
   ]
  },
  {
   "geoTransforms": [
    {
     "wkt": "GEOGTRAN[\"CGT_ED50_ETRS89_IGM_K2\",GEOGCS[\"GCS_European_1950\",DATUM[\"D_European_1950\",SPHEROID[\"International_1924\",6378388.0,297.0]],PRIMEM[\"Greenwich\",0.0],UNIT[\"Degree\",0.0174532925199433]],GEOGCS[\"GCS_ETRS_1989\",DATUM[\"D_ETRS_1989\",SPHEROID[\"GRS_1980\",6378137.0,298.257222101]],PRIMEM[\"Greenwich\",0.0],UNIT[\"Degree\",0.0174532925199433]],METHOD[\"NTv2\"],PARAMETER[\"Dataset_it_emirom_GK2/RER_ED50_ETRS89_IGM_K2\",0.0]]",
     "transformForward": true,
     "name": "CGT_ED50_ETRS89_IGM_K2"
    }
   ]
  },
  {
   "geoTransforms": [
    {
     "wkid": 1149,
     "latestWkid": 1149,
     "transformForward": true,
     "name": "ETRS_1989_To_WGS_1984"
    }
   ]
  },
  {
   "geoTransforms": [
    {
     "wkid": 1149,
     "latestWkid": 1149,
     "transformForward": false,
     "name": "ETRS_1989_To_WGS_1984"
    }
   ]
  },
  {
   "geoTransforms": [
    {
     "wkt": "GEOGTRAN[\"CGT_ED50_WGS84_IGM_K2\",GEOGCS[\"GCS_European_1950\",DATUM[\"D_European_1950\",SPHEROID[\"International_1924\",6378388.0,297.0]],PRIMEM[\"Greenwich\",0.0],UNIT[\"Degree\",0.0174532925199433]],GEOGCS[\"GCS_WGS_1984\",DATUM[\"D_WGS_1984\",SPHEROID[\"WGS_1984\",6378137.0,298.257223563]],PRIMEM[\"Greenwich\",0.0],UNIT[\"Degree\",0.0174532925199433]],METHOD[\"NTv2\"],PARAMETER[\"Dataset_it_emirom_GK2/RER_ED50_ETRS89_IGM_K2\",0.0]]",
     "transformForward": true,
     "name": "CGT_ED50_WGS84_IGM_K2"
    }
   ]
  },
  {
   "geoTransforms": [
    {
     "wkt": "GEOGTRAN[\"CGT_ED50_WGS84_IGM_K2\",GEOGCS[\"GCS_European_1950\",DATUM[\"D_European_1950\",SPHEROID[\"International_1924\",6378388.0,297.0]],PRIMEM[\"Greenwich\",0.0],UNIT[\"Degree\",0.0174532925199433]],GEOGCS[\"GCS_WGS_1984\",DATUM[\"D_WGS_1984\",SPHEROID[\"WGS_1984\",6378137.0,298.257223563]],PRIMEM[\"Greenwich\",0.0],UNIT[\"Degree\",0.0174532925199433]],METHOD[\"NTv2\"],PARAMETER[\"Dataset_it_emirom_GK2/RER_ED50_ETRS89_IGM_K2\",0.0]]",
     "transformForward": false,
     "name": "CGT_ED50_WGS84_IGM_K2"
    }
   ]
  },
  {
   "geoTransforms": [
    {
     "wkt": "GEOGTRAN[\"CGT_AD400_MM_WGS84_V1A\",GEOGCS[\"GCS_Monte_Mario\",DATUM[\"D_Monte_Mario\",SPHEROID[\"International_1924\",6378388.0,297.0]],PRIMEM[\"Greenwich\",0.0],UNIT[\"Degree\",0.0174532925199433]],GEOGCS[\"GCS_WGS_1984\",DATUM[\"D_WGS_1984\",SPHEROID[\"WGS_1984\",6378137.0,298.257223563]],PRIMEM[\"Greenwich\",0.0],UNIT[\"Degree\",0.0174532925199433]],METHOD[\"NTv2\"],PARAMETER[\"Dataset_it_emirom_ad400_v1/RER_AD400_MM_ETRS89_V1A\",0.0]]",
     "transformForward": true,
     "name": "CGT_AD400_MM_WGS84_V1A"
    }
   ]
  },
  {
   "geoTransforms": [
    {
     "wkt": "GEOGTRAN[\"CGT_AD400_MM_WGS84_V1A\",GEOGCS[\"GCS_Monte_Mario\",DATUM[\"D_Monte_Mario\",SPHEROID[\"International_1924\",6378388.0,297.0]],PRIMEM[\"Greenwich\",0.0],UNIT[\"Degree\",0.0174532925199433]],GEOGCS[\"GCS_WGS_1984\",DATUM[\"D_WGS_1984\",SPHEROID[\"WGS_1984\",6378137.0,298.257223563]],PRIMEM[\"Greenwich\",0.0],UNIT[\"Degree\",0.0174532925199433]],METHOD[\"NTv2\"],PARAMETER[\"Dataset_it_emirom_ad400_v1/RER_AD400_MM_ETRS89_V1A\",0.0]]",
     "transformForward": false,
     "name": "CGT_AD400_MM_WGS84_V1A"
    }
   ]
  },
  {
   "geoTransforms": [
    {
     "wkt": "GEOGTRAN[\"CGT_AD400_MM_ED50_V1A\",GEOGCS[\"GCS_Monte_Mario\",DATUM[\"D_Monte_Mario\",SPHEROID[\"International_1924\",6378388.0,297.0]],PRIMEM[\"Greenwich\",0.0],UNIT[\"Degree\",0.0174532925199433]],GEOGCS[\"GCS_European_1950\",DATUM[\"D_European_1950\",SPHEROID[\"International_1924\",6378388.0,297.0]],PRIMEM[\"Greenwich\",0.0],UNIT[\"Degree\",0.0174532925199433]],METHOD[\"NTv2\"],PARAMETER[\"Dataset_it_emirom_ad400_v1/RER_AD400_MM_ED50_V1A\",0.0]]",
     "transformForward": false,
     "name": "CGT_AD400_MM_ED50_V1A"
    }
   ]
  },
  {
   "geoTransforms": [
    {
     "wkt": "GEOGTRAN[\"CGT_AD400_MM_ED50_V1A\",GEOGCS[\"GCS_Monte_Mario\",DATUM[\"D_Monte_Mario\",SPHEROID[\"International_1924\",6378388.0,297.0]],PRIMEM[\"Greenwich\",0.0],UNIT[\"Degree\",0.0174532925199433]],GEOGCS[\"GCS_European_1950\",DATUM[\"D_European_1950\",SPHEROID[\"International_1924\",6378388.0,297.0]],PRIMEM[\"Greenwich\",0.0],UNIT[\"Degree\",0.0174532925199433]],METHOD[\"NTv2\"],PARAMETER[\"Dataset_it_emirom_ad400_v1/RER_AD400_MM_ED50_V1A\",0.0]]",
     "transformForward": true,
     "name": "CGT_AD400_MM_ED50_V1A"
    }
   ]
  }
 ],
 "supportsDatumTransformation": true,
 "maxRecordCount": 1000,
 "maxImageHeight": 4096,
 "maxImageWidth": 4096,
 "supportedExtensions": ""
}
